BEGIN:VCALENDAR
VERSION:2.0
PRODID:-//Critics Den - ECPv6.15.20//NONSGML v1.0//EN
CALSCALE:GREGORIAN
METHOD:PUBLISH
X-WR-CALNAME:Critics Den
X-ORIGINAL-URL:https://criticsden.com
X-WR-CALDESC:Events for Critics Den
REFRESH-INTERVAL;VALUE=DURATION:PT1H
X-Robots-Tag:noindex
X-PUBLISHED-TTL:PT1H
BEGIN:VTIMEZONE
TZID:America/New_York
BEGIN:DAYLIGHT
TZOFFSETFROM:-0500
TZOFFSETTO:-0400
TZNAME:EDT
DTSTART:20230312T070000
END:DAYLIGHT
BEGIN:STANDARD
TZOFFSETFROM:-0400
TZOFFSETTO:-0500
TZNAME:EST
DTSTART:20231105T060000
END:STANDARD
BEGIN:DAYLIGHT
TZOFFSETFROM:-0500
TZOFFSETTO:-0400
TZNAME:EDT
DTSTART:20240310T070000
END:DAYLIGHT
BEGIN:STANDARD
TZOFFSETFROM:-0400
TZOFFSETTO:-0500
TZNAME:EST
DTSTART:20241103T060000
END:STANDARD
BEGIN:DAYLIGHT
TZOFFSETFROM:-0500
TZOFFSETTO:-0400
TZNAME:EDT
DTSTART:20250309T070000
END:DAYLIGHT
BEGIN:STANDARD
TZOFFSETFROM:-0400
TZOFFSETTO:-0500
TZNAME:EST
DTSTART:20251102T060000
END:STANDARD
END:VTIMEZONE
BEGIN:VEVENT
DTSTART;VALUE=DATE:20241024
DTEND;VALUE=DATE:20241103
DTSTAMP:20260422T081619
CREATED:20241024T220139Z
LAST-MODIFIED:20241024T220139Z
UID:21690-1729749600-1730527199@criticsden.com
SUMMARY:Halloween (1978) : Salem MA
DESCRIPTION:Cinema Salem presents John Carpenter’s Halloween (1978)! \nLocation: Salem\, Massachusetts \nPlot: Fifteen years after murdering his sister on Halloween night 1963\, Michael Myers escapes from a mental hospital and returns to the small town of Haddonfield\, Illinois to kill again. \nCLICK FOR TICKET INFO \n \n \n\nIs this your theater or film program?  \nContact Us to learn how we can promote you even more!
URL:https://criticsden.com/event/halloween-1978-salem-ma/
LOCATION:Cinema Salem\, 1 East India Square\, Salem\, MA\, 01970\, United States
CATEGORIES:Massachusetts Film Events
ATTACH;FMTTYPE=image/jpeg:https://criticsden.com/wp-content/uploads/2021/09/halloween-1978.jpg
END:VEVENT
BEGIN:VEVENT
DTSTART;VALUE=DATE:20241101
DTEND;VALUE=DATE:20241103
DTSTAMP:20260422T081619
CREATED:20241031T151646Z
LAST-MODIFIED:20241031T151646Z
UID:21803-1730440800-1730527199@criticsden.com
SUMMARY:Eraserhead : Brookline MA
DESCRIPTION:Gateway Film Center presents David Lynch’s Eraserhead (1977)! \nLocation: Brookline\, Massachusetts \nPlot: Henry Spencer tries to survive his industrial environment\, his angry girlfriend\, and the unbearable screams of his newly born mutant child. \nCLICK FOR TICKET INFO \n \n \n\nIs this your theater or film program?  \nContact Us to learn how we can promote you even more! \n\n 
URL:https://criticsden.com/event/eraserhead-brookline-ma/
LOCATION:Coolidge Corner Theatre\, 290 Harvard St.\, Brookline\, MA\, 02446\, United States
CATEGORIES:Massachusetts Film Events
ATTACH;FMTTYPE=image/jpeg:https://criticsden.com/wp-content/uploads/2017/04/eraserhead-feature.jpg
END:VEVENT
BEGIN:VEVENT
DTSTART;VALUE=DATE:20241103
DTEND;VALUE=DATE:20241105
DTSTAMP:20260422T081619
CREATED:20220621T193400Z
LAST-MODIFIED:20241031T155543Z
UID:17512-1730613600-1730699999@criticsden.com
SUMMARY:Dr. Strangelove : Lowell MA
DESCRIPTION:Luna Theater presents Dr. Strangelove (1964)! \nLocation: Lowell\, Massachusetts \nPlot: An insane general triggers a path to nuclear holocaust that a war room full of politicians and generals frantically try to stop. \nCLICK FOR TICKET INFO \n \n \n\nIs this your theater or film program?  \nContact Us to learn how we can promote you even more! \n\n 
URL:https://criticsden.com/event/dr-strangelove-lowell-ma/
LOCATION:Luna Theater\, Lowell\, Mill No 5\, 250 Jackson St 4th floor\, Lowell\, MA\, 01852\, United States
CATEGORIES:Massachusetts Film Events
ATTACH;FMTTYPE=image/jpeg:https://criticsden.com/wp-content/uploads/2017/05/dr-strangelove-feature.jpg
END:VEVENT
BEGIN:VEVENT
DTSTART;VALUE=DATE:20241104
DTEND;VALUE=DATE:20241106
DTSTAMP:20260422T081619
CREATED:20211007T152819Z
LAST-MODIFIED:20241104T170841Z
UID:13656-1730700000-1730786399@criticsden.com
SUMMARY:Fright Night (1985) : Cambridge MA
DESCRIPTION:The Brattle presents Fright Night (1985) on 35mm! \nLocation: Cambridge\, Massachusetts \nPlot: A teenager discovers that the newcomer in his neighborhood is a vampire\, so he turns to an actor in a television horror show for help dealing with the undead. \nCLICK FOR TICKET INFO \n \n \n\nIs this your theater or film program?  \nContact Us to learn how we can promote you even more! \n\n 
URL:https://criticsden.com/event/fright-night-1985-cambridge-ma/
LOCATION:The Brattle\, Cambridge\, 40 Brattle St.\, Cambridge\, MA\, 02138\, United States
CATEGORIES:Massachusetts Film Events
ATTACH;FMTTYPE=image/jpeg:https://criticsden.com/wp-content/uploads/2021/09/fright-night-1985-feature.jpg
END:VEVENT
BEGIN:VEVENT
DTSTART;VALUE=DATE:20241104
DTEND;VALUE=DATE:20241106
DTSTAMP:20260422T081619
CREATED:20241030T184750Z
LAST-MODIFIED:20241104T142819Z
UID:21735-1730700000-1730786399@criticsden.com
SUMMARY:The Texas Chain Saw Massacre (1974) : Boston MA
DESCRIPTION:Alamo Drafthouse presents The Texas Chain Saw Massacre (1974)! \nLocation: Boston\, Massachusetts \nPlot: Two siblings visit their grandfather’s grave in Texas along with three of their friends and are attacked by a family of cannibalistic psychopaths. \nCLICK FOR TICKET INFO \n \n \n\nIs this your theater or film program?  \nContact Us to learn how we can promote you even more! \n\n 
URL:https://criticsden.com/event/texas-chain-saw-massacre-1974-boston-ma/
LOCATION:Alamo Drafthouse\, Boston\, 60 Seaport Blvd.\, Unit 315\, Boston\, MA\, 02210\, United States
CATEGORIES:Massachusetts Film Events
ATTACH;FMTTYPE=image/jpeg:https://criticsden.com/wp-content/uploads/2017/06/tcm-1974-feature.jpg
END:VEVENT
BEGIN:VEVENT
DTSTART;VALUE=DATE:20241108
DTEND;VALUE=DATE:20241111
DTSTAMP:20260422T081619
CREATED:20220710T125731Z
LAST-MODIFIED:20241108T222055Z
UID:17888-1731045600-1731218399@criticsden.com
SUMMARY:Dune (1984) : Brookline MA
DESCRIPTION:Coolidge Corner Theatre presents David Lynch’s Dune (1984)! \nLocation: Brookline\, Massachusetts \nPlot: A Duke’s son leads desert warriors against the galactic emperor and his father’s evil nemesis when they assassinate his father and free their desert world from the emperor’s rule. \nCLICK FOR TICKET INFO \n \n \n\nIs this your theater or film program?  \nContact Us to learn how we can promote you even more! \n\n 
URL:https://criticsden.com/event/dune-1984-brookline-ma/
LOCATION:Coolidge Corner Theatre\, 290 Harvard St.\, Brookline\, MA\, 02446\, United States
CATEGORIES:Massachusetts Film Events
ATTACH;FMTTYPE=image/jpeg:https://criticsden.com/wp-content/uploads/2017/04/dune_feature.jpg
END:VEVENT
BEGIN:VEVENT
DTSTART;VALUE=DATE:20241110
DTEND;VALUE=DATE:20241112
DTSTAMP:20260422T081619
CREATED:20241108T235057Z
LAST-MODIFIED:20241108T235057Z
UID:21929-1731218400-1731304799@criticsden.com
SUMMARY:They Live : Lowell MA
DESCRIPTION:Luna Theater presents John Carpenter’s They Live (1988)! \nLocation: Lowell\, Massachusetts \nPlot: A drifter discovers a pair of sunglasses that allow him to wake up to the fact that aliens have taken over the Earth. \nCLICK FOR TICKET INFO \n \n \n\nIs this your theater or film program?  \nContact Us to learn how we can promote you even more!
URL:https://criticsden.com/event/they-live-lowell-ma/
LOCATION:Luna Theater\, Lowell\, Mill No 5\, 250 Jackson St 4th floor\, Lowell\, MA\, 01852\, United States
CATEGORIES:Massachusetts Film Events
ATTACH;FMTTYPE=image/jpeg:https://criticsden.com/wp-content/uploads/2017/03/they_live_feature.jpg
END:VEVENT
END:VCALENDAR